Workbook

Sheet RH
A1: ANEXO I
A3: MEMÓRIA DE CÁLCULO I - RECURSOS HUMANOS
A6: 12 MESES - JULHO 2018 A JUNHO 2019 | C6: TEMPO DE SERVIÇO | D6: RATEIO MENSAL | F6: ENCARGOS PATRONAIS | I6: BENEFÍCIOS | K6: TOTAL
A7: FUNÇÃO | B7: SALÁRIO | C7: 1% PRÊMIO TEMPO DE SERVIÇO | D7: FÉRIAS | E7: 13º SALÁRIO | F7: FGTS TOTAL (8%) | G7: PIS TOTAL (1%) | H7: SEGURO DE VIDA (TAXA ANUAL) | I7: VALE REFEIÇÃO | J7: CESTA BÁSICA | K7: CUSTO MENSAL | L7: CUSTO 11 MESES
A8: ASSISTENTE SOCIAL (CLT) | B8: 3100 | C8: 0 | D8: =((B8*0.33)+B8)/12 -> 343.58333 | E8: =B8/12 -> 258.33333 | F8: =SUM(B8:E8)*0.08 -> 296.15333 | G8: =SUM(B8:E8)*0.01 -> 37.019167 | H8: 8.78 | I8: 398.5 | J8: 132 | K8: =SUM(B8:J8) -> 4574.3692 | L8: =K8*12 -> 54892.43
A9: COORDENADOR TÉCNICO - PSICÓLOGO (CLT) | B9: 3870 | C9: 0 | D9: =((B9*0.33)+B9)/12 -> 428.925 | E9: =B9/12 -> 322.5 | F9: =SUM(B9:E9)*0.08 -> 369.714 | G9: =SUM(B9:E9)*0.01 -> 46.21425 | H9: 8.78 | I9: 398.5 | J9: 132 | K9: =SUM(B9:J9) -> 5576.6332 | L9: =K9*12 -> 66919.599
A10: ORIENTADOR SOCIAL - PSICÓLOGO (CLT) | B10: 3200 | C10: 0 | D10: =((B10*0.33)+B10)/12 -> 354.66667 | E10: =B10/12 -> 266.66667 | F10: =SUM(B10:E10)*0.08 -> 305.70667 | G10: =SUM(B10:E10)*0.01 -> 38.213333 | H10: 8.78 | I10: 398.5 | J10: 132 | K10: =SUM(B10:J10) -> 4704.5333 | L10: =K10*12 -> 56454.4
A11: AGENTE DE RECREAÇÃO (CLT) | B11: 1800 | C11: 0 | D11: =((B11*0.33)+B11)/12 -> 199.5 | E11: =B11/12 -> 150 | F11: =SUM(B11:E11)*0.08 -> 171.96 | G11: =SUM(B11:E11)*0.01 -> 21.495 | H11: 8.78 | I11: 398.5 | J11: 132 | K11: =SUM(B11:J11) -> 2882.235 | L11: =K11*12 -> 34586.82
A12: ESCRITURÁRIA (CLT) | B12: 1800 | C12: =B12*1% -> 18 | D12: =((B12*0.33)+B12)/12 -> 199.5 | E12: =B12/12 -> 150 | F12: =SUM(B12:E12)*0.08 -> 173.4 | G12: =SUM(B12:E12)*0.01 -> 21.675 | H12: 8.78 | I12: 398.5 | J12: 132 | K12: =SUM(B12:J12) -> 2901.855 | L12: =K12*12 -> 34822.26
A13: COZINHEIRA (CLT) | B13: 1567.5 | C13: 0 | D13: =((B13*0.33)+B13)/12 -> 173.73125 | E13: =B13/12 -> 130.625 | F13: =SUM(B13:E13)*0.08 -> 149.7485 | G13: =SUM(B13:E13)*0.01 -> 18.718563 | H13: 8.78 | I13: 398.5 | J13: 132 | K13: =SUM(B13:J13) -> 2579.6033 | L13: =K13*12 -> 30955.24
A14: FAXINEIRA (CLT) | B14: 1214.6557 | C14: =B14*1% -> 12.146558 | D14: =((B14*0.33)+B14)/12 -> 134.62435 | E14: =B14/12 -> 101.22131 | F14: =SUM(B14:E14)*0.08 -> 117.01184 | G14: =SUM(B14:E14)*0.01 -> 14.62648 | H14: 8.78 | I14: 398.5 | J14: 132 | K14: =SUM(B14:J14) -> 2133.5663 | L14: =K14*12 -> 25602.795
A15: TOTAL | B15: =SUM(B8:B14) -> 16552.156 | C15: =SUM(C8:C14) -> 30.146558 | D15: =SUM(D8:D14) -> 1834.5306 | E15: =SUM(E8:E14) -> 1379.3463 | F15: =SUM(F8:F14) -> 1583.6943 | G15: =SUM(G8:G14) -> 197.96179 | H15: =SUM(H8:H14) -> 61.46 | I15: =SUM(I8:I14) -> 2789.5 | ... L15: =SUM(L8:L14) -> 304233.54
A16: TOTAL - 12 MESES | B16: =B15*12 -> 198625.87 | C16: =C15*12 -> 361.75869 | D16: =D15*12 -> 22014.367 | E16: =E15*12 -> 16552.156 | F16: =F15*12 -> 19004.332 | G16: =G15*12 -> 2375.5415 | H16: =H15*12 -> 737.52 | I16: =I15*12 -> 33474 | ... K16: =K15*12 -> 304233.54
A18: SOMATÓRIA
A19: 12 MESES - JULHO 2018 A JUNHO 2019 | C19: TEMPO DE SERVIÇO | D19: RATEIO | F19: ENCARGOS PATRONAIS | I19: BENEFÍCIOS | K19: TOTAL
A20: FUNÇÃO | B20: SALÁRIO BRUTO | C20: 1% PRÊMIO TEMPO DE SERVIÇO | D20: FÉRIAS | E20: 13º SALÁRIO | F20: FGTS TOTAL (8%) | G20: PIS TOTAL (1%) | H20: SEGURO DE VIDA (TAXA ANUAL) | I20: VALE REFEIÇÃO | J20: CESTA BÁSICA | K20: CUSTO 12 MESES
A21: ASSISTENTE SOCIAL (CLT) | B21: =B8 -> 3100 | C21: =C8 -> 0 | D21: =D8 -> 343.58333 | E21: =E8 -> 258.33333 | F21: =F8 -> 296.15333 | G21: =G8 -> 37.019167 | H21: =H8 -> 8.78 | I21: =I8 -> 398.5 | J21: =J8 -> 132 | K21: =SUM(B21:J21)*12 -> 54892.43
A22: COORDENADOR TÉCNICO - PSICÓLOGO (CLT) | B22: =B9 -> 3870 | C22: =C9 -> 0 | D22: =D9 -> 428.925 | E22: =E9 -> 322.5 | F22: =F9 -> 369.714 | G22: =G9 -> 46.21425 | H22: =H9 -> 8.78 | I22: =I9 -> 398.5 | J22: =J9 -> 132 | K22: =SUM(B22:J22)*12 -> 66919.599
A23: ORIENTADOR SOCIAL - PSICÓLOGO (CLT) | B23: =B10 -> 3200 | C23: =C10 -> 0 | D23: =D10 -> 354.66667 | E23: =E10 -> 266.66667 | F23: =F10 -> 305.70667 | G23: =G10 -> 38.213333 | H23: =H10 -> 8.78 | I23: =I10 -> 398.5 | J23: =J10 -> 132 | K23: =SUM(B23:J23)*12 -> 56454.4
A24: AGENTE DE RECREAÇÃO (CLT) | B24: =B11 -> 1800 | C24: =C11 -> 0 | D24: =D11 -> 199.5 | E24: =E11 -> 150 | F24: =F11 -> 171.96 | G24: =G11 -> 21.495 | H24: =H11 -> 8.78 | I24: =I11 -> 398.5 | J24: =J11 -> 132 | K24: =SUM(B24:J24)*12 -> 34586.82
A25: ESCRITURÁRIA (CLT) | B25: =B12 -> 1800 | C25: =C12 -> 18 | D25: =D12 -> 199.5 | E25: =E12 -> 150 | F25: =F12 -> 173.4 | G25: =G12 -> 21.675 | H25: =H12 -> 8.78 | I25: =I12 -> 398.5 | J25: =J12 -> 132 | K25: =SUM(B25:J25)*12 -> 34822.26
A26: COZINHEIRA (CLT) | B26: =B13 -> 1567.5 | C26: =C13 -> 0 | D26: =D13 -> 173.73125 | E26: =E13 -> 130.625 | F26: =F13 -> 149.7485 | G26: =G13 -> 18.718563 | H26: =H13 -> 8.78 | I26: =I13 -> 398.5 | J26: =J13 -> 132 | K26: =SUM(B26:J26)*12 -> 30955.24
A27: FAXINEIRA (CLT) | B27: =B14 -> 1214.6557 | C27: =C14 -> 12.146558 | D27: =D14 -> 134.62435 | E27: =E14 -> 101.22131 | F27: =F14 -> 117.01184 | G27: =G14 -> 14.62648 | H27: =H14 -> 8.78 | I27: =I14 -> 398.5 | J27: =J14 -> 132 | K27: =SUM(B27:J27)*12 -> 25602.795
A28: TOTAL - 12 MESES | B28: =SUM(B21:B27)*12 -> 198625.87 | C28: =SUM(C21:C27)*12 -> 361.75869 | D28: =SUM(D21:D27)*12 -> 22014.367 | E28: =SUM(E21:E27)*12 -> 16552.156 | F28: =SUM(F21:F27)*12 -> 19004.332 | G28: =SUM(G21:G27)*12 -> 2375.5415 | H28: =SUM(H21:H27)*12 -> 737.52 | I28: =SUM(I21:I27)*12 -> 33474 | J28: =SUM(J21:J27)*12 -> 11088 | K28: =SUM(B28:J28) -> 304233.54
A30: PLANO DE APLICAÇÃO
A31: FUNÇÃO | B31: SALÁRIO BRUTO | C31: TEMPO DE SERVIÇO | D31: FÉRIAS | E31: 13º SALÁRIO | F31: FGTS TOTAL (8%) | G31: PIS TOTAL (1%) | H31: SEGURO DE VIDA (TAXA ANUAL) | I31: VALE REFEIÇÃO | J31: CESTA BÁSICA | K31: CUSTO 12 MESES
A32: Recursos Próprios | B32: 0 | C32: 0 | D32: 0 | E32: 0 | F32: 0 | G32: 0 | H32: =H28 -> 737.52 | I32: 0 | J32: =J28 -> 11088 | K32: =SUM(B32:J32) -> 11825.52
A33: Recurso Municipal | B33: =B28 -> 198625.87 | C33: =C28 -> 361.75869 | D33: =D28 -> 22014.367 | E33: =E28 -> 16552.156 | F33: =F28 -> 19004.332 | G33: =G28 -> 2375.5415 | H33: 0 | I33: =I28 -> 33474 | K33: =SUM(B33:J33) -> 292408.02
A34: TOTAL | B34: =SUM(B32:B33) -> 198625.87 | C34: =SUM(C32:C33) -> 361.75869 | D34: =SUM(D32:D33) -> 22014.367 | E34: =SUM(E32:E33) -> 16552.156 | F34: =SUM(F32:F33) -> 19004.332 | G34: =SUM(G32:G33) -> 2375.5415 | H34: =SUM(H32:H33) -> 737.52 | I34: =SUM(I32:I33) -> 33474 | J34: =SUM(J32:J33) -> 11088 | K34: =SUM(K32:L33) -> 304233.54
A35: OBS: A entidade possui isenção de INSS, SAT/RAT e TERCEIROS, pois possui o CEBAS.
L36: 22
A37: ANEXO I
A39: MEMÓRIA DE CÁLCULO I - RECURSOS HUMANOS
A41: Cálculo Rescisório
A42: FUNCIONÁRIO | B42: SALÁRIO | C42: FGTS | D42: AVISO PREVIO | E42: MULTA 50% FGTS | F42: TOTAL
A44: ASSISTENTE SOCIAL (CLT) | B44: =B8 -> 3100 | C44: =(B44*0.08)*12 -> 2976 | D44: =B44 -> 3100 | E44: =C44*0.5 -> 1488 | F44: =SUM(D44:E44) -> 4588
A45: COORDENADOR TÉCNICO - PSICÓLOGO (CLT) | B45: =B9 -> 3870 | C45: =(B45*0.08)*12 -> 3715.2 | D45: =B45 -> 3870 | E45: =C45*0.5 -> 1857.6 | F45: =SUM(D45:E45) -> 5727.6
A46: ORIENTADOR SOCIAL - PSICÓLOGO (CLT) | B46: =B10 -> 3200 | C46: =(B46*0.08)*12 -> 3072 | D46: =B46 -> 3200 | E46: =C46*0.5 -> 1536 | F46: =SUM(D46:E46) -> 4736
A47: AGENTE DE RECREAÇÃO (CLT) | B47: =B11 -> 1800 | C47: =(B47*0.08)*12 -> 1728 | D47: =B47 -> 1800 | E47: =C47*0.5 -> 864 | F47: =SUM(D47:E47) -> 2664
A48: ESCRITURÁRIA (CLT) | B48: =B12 -> 1800 | C48: =(B48*0.08)*12 -> 1728 | D48: =B48 -> 1800 | E48: =C48*0.5 -> 864 | F48: =SUM(D48:E48) -> 2664
...

Sheet EDUCADORES
A1: ANEXO II
A3: MEMÓRIA DE CÁLCULO II - MEI (EDUCADORES)
A5: 12 MESES - JUNHO 2018 A MAIO 2017
A6: FUNÇÃO | B6: QUANTIDADE | C6: VALOR UNITÁRIO | D6: VALOR MENSAL | E6: CUSTO 12 MESES
A7: EDUCADOR OFICINA (UMA VEZ NA SEMANA) | B7: 2 | C7: 670 | D7: =B7*C7 -> 1340 | E7: =D7*12 -> 16080
A8: EDUCADOR OFICINA (DUAS VEZES NA SEMANA) | B8: 1 | C8: 1000 | D8: =B8*C8 -> 1000 | E8: =D8*12 -> 12000
A9: TOTAL - 12 MESES ( Recursos Municipal) | D9: =SUM(D7:D8) -> 2340 | E9: =SUM(E7:E8) -> 28080
A11: FUNÇÃO | B11: QUANTIDADE | C11: VALOR MENSAL | D11: CUSTO 12 MESES
A12: FACILITADOR OFICINA FAMÍLIAS - TÉCNICO | B12: 1 | C12: 600 | D12: =C12*12*1 -> 7200
A13: FACILITADOR OFICINA FAMÍLIAS - AUXILIAR | B13: 1 | C13: 200 | D13: =C13*12*1 -> 2400
A14: TOTAL - 12 MESES ( Recursos Estadual) | C14: =SUM(C12:C13) -> 800 | D14: =SUM(D12:D13) -> 9600
A16: AJUDA DE CUSTO
A17: FUNÇÃO | B17: Descrição | C17: VALOR MENSAL | D17: CUSTO 12 MESES
A18: EDUCADOR OFICINA (DUAS VEZES NA SEMANA) | B18: Combustível | C18: 100 | D18: =C18*12*1 -> 1200
A19: TOTAL - 12 MESES (Recursos Próprios) | C19: =SUM(C18:C18) -> 100 | D19: =SUM(D18:D18) -> 1200

Sheet OUTRAS CATEGORIAS
A1: ANEXO III
A3: MEMÓRIA DE CÁLCULO III
A5: NATUREZA | B5: DESCRIÇÃO | C5: VALORES
A6: DA DESPESA | C6: Média Mensal | D6: Total Anual
A7: Gêneros Alimentícios | B7: Materiais p/ Oficina de Culinária | C7: =D7/12 -> 400 | D7: 4800
B8: Alimentação dentro da Entidade Executora Oficinas | C8: =D8/12 -> 1308.5658 | D8: 15702.79
B9: Total ( Recuso Municipal) | C9: =SUM(C7:C8) -> 1708.5658 | D9: =SUM(D7:D8) -> 20502.79
B10: Alimentação Encontro Pais | C10: =D10/12 -> 153.33333 | D10: 1840
B11: Festividades e Datas Comemorativas | C11: =D11/12 -> 133.33333 | D11: 1600
B12: TOTAL (Recurso Estadual) | C12: =SUM(C10:C11) -> 286.66667 | D12: =SUM(D10:D11) -> 3440
A14: NATUREZA | B14: DESCRIÇÃO | C14: VALORES
A15: DA DESPESA | C15: Média Mensal | D15: Total Anual
A16: Outros Materiais de Consumo | B16: Materiais de Higiene e Limpeza | C16: 450 | D16: =C16*12 -> 5400
B17: Materiais p/ Oficinas Recreativas e Artes | C17: 250 | D17: =C17*12 -> 3000
B18: Materiais de Escritório e Didático-Pedagógicos | C18: 500 | D18: =C18*12 -> 6000
A19: TOTAL | C19: =SUM(C16:C18) -> 1200 | D19: =SUM(D16:D18) -> 14400
A21: NATUREZA | B21: DESCRIÇÃO | C21: VALORES
A22: DA DESPESA | C22: Média Mensal | D22: Total Anual
A23: Outros Serviços de Terceiros (Recursos Públicos) | B23: Chácara Festividade dia das Crianças | C23: =D23/12 -> 125 | D23: 1500
B25: Passeios/ Atividade Externas | C25: =D25/12 -> 188.33333 | D25: 2260
A27: TOTAL (Recurso Estadual) | C27: =SUM(C20:C25) -> 313.33333 | D27: =SUM(D20:D25) -> 3760
A28: Outros Serviços de Terceiros | B28: Escritório de Contabilidade | C28: 800 | D28: =C28*12 -> 9600
A29: (Recursos Próprios)
A30: TOTAL (Recursos Próprios) | C30: =SUM(C23:C29) -> 1426.6667 | D30: =D28 -> 9600
A32: NATUREZA | B32: DESCRIÇÃO | C32: VALORES
A33: DA DESPESA | C33: Média Mensal | D33: Total Anual
A34: Utilidades Públicas | B34: Energia Elétrica | C34: 550 | D34: =C34*12 -> 6600
B35: Tarifa de Água | C35: 50 | D35: =C35*12 -> 600
B36: Gás | C36: =D36/12 -> 41.666667 | D36: 500
B37: Telefone e Internet | C37: 500 | D37: =C37*12 -> 6000
A38: TOTAL ( Recurso Municipal) | C38: =SUM(C34:C37) -> 1141.6667 | D38: =SUM(D34:D37) -> 13700
A40: NATUREZA | B40: DESCRIÇÃO | C40: VALORES
A41: DA DESPESA | C41: Média Mensal | D41: Total Anual
A42: Despesas Financeiras e Bancárias | B42: Tarifas Bancárias | C42: 120 | D42: =C42*12 -> 1440
A43: (Recursos Próprios)
A44: TOTAL (Recursos Próprios) | C44: =SUM(C42:C42) -> 120 | D44: =SUM(D42:D42) -> 1440

Sheet CRONOGAMA DE DESEMB. E APLICAÇÃ
A1: PLANO DE APLICAÇÃO
A3: Natureza da Despesa | B3: Total | C3: Concedente - Recurso Estadual | D3: Concedente - Recurso Municipal | E3: Proponente
A4: Recursos Humanos - CLT | B4: =SUM(C4:E4) -> 304233.54 | C4: 0 | D4: =RH!K33 -> 292408.02 | E4: =RH!K32 -> 11825.52
A5: Recursos Humanos - RESCISÃO | B5: =SUM(C5:E5) -> 24497.191 | C5: 0 | D5: =RH!F52 -> 24497.191 | E5: 0
A6: Recursos Humanos - MEI | B6: =SUM(C6:E6) -> 37680 | C6: =EDUCADORES!D14 -> 9600 | D6: =EDUCADORES!E9 -> 28080 | E6: =EDUCADORES!E19 -> 0
A7: Gêneros Alimentícios | B7: =SUM(C7:E7) -> 23942.79 | C7: ='OUTRAS CATEGORIAS'!D12 -> 3440 | D7: ='OUTRAS CATEGORIAS'!D9 -> 20502.79 | E7: 0
A8: Outros Materiais de Consumo | B8: =SUM(C8:E8) -> 14400 | C8: 0 | D8: ='OUTRAS CATEGORIAS'!D19 -> 14400 | E8: 0
A9: Outros Serviços de Terceiros | B9: =SUM(C9:E9) -> 13360 | C9: ='OUTRAS CATEGORIAS'!D27 -> 3760 | D9: 0 | E9: ='OUTRAS CATEGORIAS'!D30 -> 9600
A10: Utilidades Públicas | B10: =SUM(C10:E10) -> 13700 | C10: 0 | D10: ='OUTRAS CATEGORIAS'!D38 -> 13700 | E10: 0
A11: Despesas Financeiras e Bancárias | B11: =SUM(C11:E11) -> 1440 | C11: 0 | D11: 0 | E11: ='OUTRAS CATEGORIAS'!D44 -> 1440
A12: TOTAL | B12: =SUM(B4:B11) -> 433253.52 | C12: =SUM(C4:C11) -> 16800 | D12: =SUM(D4:D11) -> 393588 | E12: =SUM(E4:E11) -> 22865.52
C13: =SUM(C12:D12) -> 410388
A14: CRONOGRAMA DE DESEMBOLSO
B16: CONCEDENTE - Recurso Municipal
A17: Natureza da Despesa | B17: JUNHO/2018 | C17: JULHO/2018 | D17: AGOSTO 2018 A MAIO 2019 | E17: TOTAL
A18: Recursos Humanos - CLT | B18: =D4/12 -> 24367.335 | C18: =D4/12 -> 24367.335 | D18: =D4/12 -> 24367.335 | E18: =B18+(D18*11) -> 292408.02
A19: Recursos Humanos - RESCISÃO | B19: =D5/12 -> 2041.4325 | C19: =D5/12 -> 2041.4325 | D19: =D5/12 -> 2041.4325 | E19: =B19+(D19*11) -> 24497.191
A20: Recursos Humanos - MEI | B20: =D6/12 -> 2340 | C20: =D6/12 -> 2340 | D20: =D6/12 -> 2340 | E20: =B20+(D20*11) -> 28080
A21: Gêneros Alimentícios | B21: =D7/12 -> 1708.5658 | C21: =D7/12 -> 1708.5658 | D21: =D7/12 -> 1708.5658 | E21: =B21+(D21*11) -> 20502.79
A22: Outros Materiais de Consumo | B22: =D8/12 -> 1200 | C22: =D8/12 -> 1200 | D22: =D8/12 -> 1200 | E22: =B22+(D22*11) -> 14400
A23: Outros Serviços de Terceiros | B23: =D9/12 -> 0 | C23: =D9/12 -> 0 | D23: =D9/12 -> 0 | E23: =B23+(D23*11) -> 0
A24: Utilidades Públicas | B24: =D10/12 -> 1141.6667 | C24: =D10/12 -> 1141.6667 | D24: =D10/12 -> 1141.6667 | E24: =B24+(D24*11) -> 13700
A25: Despesas Financeiras e Bancárias | B25: =D11/12 -> 0 | C25: =D11/12 -> 0 | D25: =D11/12 -> 0 | E25: =B25+(D25*11) -> 0
A26: TOTAL | B26: =SUM(B18:B25) -> 32799 | C26: =SUM(C18:C25) -> 32799 | D26: =SUM(D18:D25) -> 32799 | E26: =SUM(E18:E25) -> 393588
B29: CONCEDENTE - Recurso Estadual
A30: Natureza da Despesa | B30: JUNHO/2018 | C30: JULHO/2018 | D30: AGOSTO 2018 A MAIO 2019 | E30: TOTAL
A31: Recursos Humanos - CLT | B31: =C4/12 -> 0 | C31: =C4/12 -> 0 | D31: =C4/12 -> 0 | E31: =B31+(D31*11) -> 0
A32: Recursos Humanos - RESCISÃO | B32: =C5/12 -> 0 | C32: =C5/12 -> 0 | D32: =C5/12 -> 0 | E32: =G5/12 -> 0
A33: Recursos Humanos - MEI | B33: =C6/12 -> 800 | C33: =C6/12 -> 800 | D33: =C6/12 -> 800 | E33: =B33+(D33*11) -> 9600
A34: Gêneros Alimentícios | B34: =C7/12 -> 286.66667 | C34: =C7/12 -> 286.66667 | D34: =C7/12 -> 286.66667 | E34: =B34+(D34*11) -> 3440
A35: Outros Materiais de Consumo | B35: =C8/12 -> 0 | C35: =C8/12 -> 0 | D35: =C8/12 -> 0 | E35: =B35+(D35*11) -> 0
A36: Outros Serviços de Terceiros | B36: =C9/12 -> 313.33333 | C36: =C9/12 -> 313.33333 | D36: =C9/12 -> 313.33333 | E36: =B36+(D36*11) -> 3760
A37: Utilidades Públicas | B37: =C10/12 -> 0 | C37: =C10/12 -> 0 | D37: =C10/12 -> 0 | E37: =B37+(D37*11) -> 0
A38: Despesas Financeiras e Bancárias | B38: =C11/12 -> 0 | C38: =C11/12 -> 0 | D38: =C11/12 -> 0 | E38: =B38+(D38*11) -> 0
A39: TOTAL | B39: =SUM(B31:B38) -> 1400 | C39: =SUM(C31:C38) -> 1400 | D39: =SUM(D31:D38) -> 1400 | E39: =SUM(E31:E38) -> 16800
B42: PROPONENTE
A43: Natureza da Despesa | B43: JUNHO/2018 | C43: JULHO/2018 | D43: AGOSTO 2018 A MAIO 2019 | E43: TOTAL
A44: Recursos Humanos - CLT | B44: =E4/12 -> 985.46 | C44: =E4/12 -> 985.46 | D44: =E4/12 -> 985.46 | E44: =B44+(D44*11) -> 11825.52
A45: Recursos Humanos - RESCISÃO | B45: =E5/12 -> 0 | C45: =E5/12 -> 0 | D45: =E5/12 -> 0 | E45: =G19/12 -> 0
A46: Recursos Humanos - MEI | B46: =E6/12 -> 0 | C46: =E6/12 -> 0 | D46: =E6/12 -> 0 | E46: =B46+(D46*11) -> 0
...
